BEGIN:VCALENDAR
PRODID:-//github.com/ical-org/ical.net//NONSGML ical.net 4.0//EN
VERSION:2.0
BEGIN:VEVENT
DTEND:20260717T101500
DTSTAMP:20260424T111146Z
DTSTART:20260717T093000
LOCATION:Unity Church of Oak Park\, 405 N Euclid Oak Park\, IL 60304
SEQUENCE:0
SUMMARY:Mixed Age Class with Ms. Katie
UID:9346994
END:VEVENT
BEGIN:VEVENT
DTEND:20260724T101500
DTSTAMP:20260424T111146Z
DTSTART:20260724T093000
LOCATION:Unity Church of Oak Park\, 405 N Euclid Oak Park\, IL 60304
SEQUENCE:0
SUMMARY:Mixed Age Class with Ms. Katie
UID:9346995
END:VEVENT
BEGIN:VEVENT
DTEND:20260731T101500
DTSTAMP:20260424T111146Z
DTSTART:20260731T093000
LOCATION:Unity Church of Oak Park\, 405 N Euclid Oak Park\, IL 60304
SEQUENCE:0
SUMMARY:Mixed Age Class with Ms. Katie
UID:9346996
END:VEVENT
BEGIN:VEVENT
DTEND:20260807T101500
DTSTAMP:20260424T111146Z
DTSTART:20260807T093000
LOCATION:Unity Church of Oak Park\, 405 N Euclid Oak Park\, IL 60304
SEQUENCE:0
SUMMARY:Mixed Age Class with Ms. Katie
UID:9346997
END:VEVENT
BEGIN:VEVENT
DTEND:20260814T101500
DTSTAMP:20260424T111146Z
DTSTART:20260814T093000
LOCATION:Unity Church of Oak Park\, 405 N Euclid Oak Park\, IL 60304
SEQUENCE:0
SUMMARY:Mixed Age Class with Ms. Katie
UID:9346998
END:VEVENT
BEGIN:VTIMEZONE
TZID:US/Central
X-LIC-LOCATION:US/Central
END:VTIMEZONE
END:VCALENDAR
