BEGIN:VCALENDAR
PRODID:-//github.com/ical-org/ical.net//NONSGML ical.net 4.0//EN
VERSION:2.0
BEGIN:VEVENT
DTEND:20260714T111500
DTSTAMP:20260424T111510Z
DTSTART:20260714T103000
LOCATION:Unity Church of Oak Park\, 405 N Euclid Oak Park\, IL 60304
SEQUENCE:0
SUMMARY:Music Together Con Español with Ms. Katie
UID:9346974
END:VEVENT
BEGIN:VEVENT
DTEND:20260721T111500
DTSTAMP:20260424T111510Z
DTSTART:20260721T103000
LOCATION:Unity Church of Oak Park\, 405 N Euclid Oak Park\, IL 60304
SEQUENCE:0
SUMMARY:Music Together Con Español with Ms. Katie
UID:9346975
END:VEVENT
BEGIN:VEVENT
DTEND:20260728T111500
DTSTAMP:20260424T111510Z
DTSTART:20260728T103000
LOCATION:Unity Church of Oak Park\, 405 N Euclid Oak Park\, IL 60304
SEQUENCE:0
SUMMARY:Music Together Con Español with Ms. Katie
UID:9346976
END:VEVENT
BEGIN:VEVENT
DTEND:20260804T111500
DTSTAMP:20260424T111510Z
DTSTART:20260804T103000
LOCATION:Unity Church of Oak Park\, 405 N Euclid Oak Park\, IL 60304
SEQUENCE:0
SUMMARY:Music Together Con Español with Ms. Katie
UID:9346977
END:VEVENT
BEGIN:VEVENT
DTEND:20260811T111500
DTSTAMP:20260424T111510Z
DTSTART:20260811T103000
LOCATION:Unity Church of Oak Park\, 405 N Euclid Oak Park\, IL 60304
SEQUENCE:0
SUMMARY:Music Together Con Español with Ms. Katie
UID:9346978
END:VEVENT
BEGIN:VTIMEZONE
TZID:US/Central
X-LIC-LOCATION:US/Central
END:VTIMEZONE
END:VCALENDAR
